BEGIN:VCALENDAR
VERSION:2.0
PRODID:-//Made in Oman Gate | منصة صنع في عمان - ECPv6.9.0//NONSGML v1.0//EN
CALSCALE:GREGORIAN
METHOD:PUBLISH
X-WR-CALNAME:Made in Oman Gate | منصة صنع في عمان
X-ORIGINAL-URL:https://madeinomangate.com
X-WR-CALDESC:Events for Made in Oman Gate | منصة صنع في عمان
REFRESH-INTERVAL;VALUE=DURATION:PT1H
X-Robots-Tag:noindex
X-PUBLISHED-TTL:PT1H
BEGIN:VTIMEZONE
TZID:UTC
BEGIN:STANDARD
TZOFFSETFROM:+0000
TZOFFSETTO:+0000
TZNAME:UTC
DTSTART:20240101T000000
END:STANDARD
END:VTIMEZONE
BEGIN:VEVENT
DTSTART;TZID=UTC:20240306T090000
DTEND;TZID=UTC:20240507T170000
DTSTAMP:20260421T053943
CREATED:20240122T095236Z
LAST-MODIFIED:20240122T095236Z
UID:1374-1709715600-1715101200@madeinomangate.com
SUMMARY:Oman Ecommerce Conference
DESCRIPTION:About the eventOman Ecommerce Conferemce \n\nThe Oman eCommerce Conference – Chapter II is organized by Inovexic in partnership with the Ministry of Commerce Industry and Investment Promotion from the Sultanate of Oman. \nNetwork with 100+ Ministry Officials 800+ conference delegations 50+ world renowned speakers and 200+ Business Partners at The Oman Convention and Exhibition Centre on the 6th and 7th of March 2024. \nOEC Chapter II is thematically centred on “infinite possibilities experienced” and will host companies from around the globe across a diverse set of industries including commerce majors logistics business houses leading market financial institutions e-payment network and telecom operators. \nEvent highlights:  \n\nLatest content which is streamlined structured and aimed at physical and digital retail trending topics.\nGlobal industry leaders will address the entire audience speaking directly about top challenges retailers continue to face.\nExhibition of the latest retail technology that can transform your business and capture the untapped potential.\n\nParticipants will have the opportunity to: \n\nHear and interact from world renowned inspiring speakers celebrities and entrepreneurs as they share their experience on how to succeed on online platforms\nExperience the latest technology and innovative services to create seamless CX\nLearn how to increase sales and deliver efficiently across online and instore operations\nGain insights from experts with one-on-one meets & understand how to maximize your impact online while increasing your profits\nNetwork with over 1000+ professionals across the world and meet the biggest industry names\n\nAttend learn and network with industry leaders and innovators in the evolving digital transformation and E-Commerce space. Listen to thought leaders discuss challenges in real time while revealing analytical insights regarding national objectives and regulatory frameworks enhancing transparency reliability and consistence. \n\n 
URL:https://madeinomangate.com/event/oman-ecommerce-conference/
ATTACH;FMTTYPE=image/png:https://madeinomangate.com/wp-content/uploads/2024/01/download-1-1.png
END:VEVENT
END:VCALENDAR