BEGIN:VCALENDAR
VERSION:2.0
PRODID:-//Made in Oman Gate | منصة صنع في عمان - ECPv6.9.0//NONSGML v1.0//EN
CALSCALE:GREGORIAN
METHOD:PUBLISH
X-ORIGINAL-URL:https://madeinomangate.com
X-WR-CALDESC:Events for Made in Oman Gate | منصة صنع في عمان
REFRESH-INTERVAL;VALUE=DURATION:PT1H
X-Robots-Tag:noindex
X-PUBLISHED-TTL:PT1H
BEGIN:VTIMEZONE
TZID:UTC
BEGIN:STANDARD
TZOFFSETFROM:+0000
TZOFFSETTO:+0000
TZNAME:UTC
DTSTART:20240101T000000
END:STANDARD
END:VTIMEZONE
BEGIN:VEVENT
DTSTART;TZID=UTC:20240422T080000
DTEND;TZID=UTC:20240424T170000
DTSTAMP:20260419T172417
CREATED:20240118T120456Z
LAST-MODIFIED:20240118T120456Z
UID:738-1713772800-1713978000@madeinomangate.com
SUMMARY:Oman Petroleum & Energy Show (OPES)
DESCRIPTION:Apr\, 22 – Apr\, 24 \nMuscat – Oman\n\n\n\nINTRODUCTION\n\n\n\n\n\n\n\n\n\nThe Oman Petroleum & Energy Show (OPES) is the only event in Oman that serves the entire oil\, gas\, and energy industry. Under the patronage of the Ministry of Energy and Minerals (MoEM)\, OPES provides an effective business and networking platform\, serving as a key meeting point for energy professionals\, oil and gas companies\, policy and decision makers\, and stakeholders. \nThe Conference organised by the Society of Petroleum Engineers (SPE) features a well-selected speaking faculty of highly acclaimed experts who convene to exchange ideas\, share insights through informative discussions and technical presentations on key topics shaping the current and future of the industry. \n\n\n\n\n\n\n\n\nDetails\n\nStart:\nApr\, 22\nEnd:\nApr\, 24\nWebsite:\nhttp://omanpetroleumandenergyshow.com\n\n\n\nOrganizer\n\nOman Expo
URL:https://madeinomangate.com/event/oman-petroleum-energy-show-opes/
CATEGORIES:oil and gas
ATTACH;FMTTYPE=image/jpeg:https://madeinomangate.com/wp-content/uploads/2024/01/download-8.jpg
END:VEVENT
END:VCALENDAR