BEGIN:VCALENDAR
VERSION:2.0
PRODID:-//Made in Oman Gate | منصة صنع في عمان - ECPv6.9.0//NONSGML v1.0//EN
CALSCALE:GREGORIAN
METHOD:PUBLISH
X-WR-CALNAME:Made in Oman Gate | منصة صنع في عمان
X-ORIGINAL-URL:https://madeinomangate.com
X-WR-CALDESC:Events for Made in Oman Gate | منصة صنع في عمان
REFRESH-INTERVAL;VALUE=DURATION:PT1H
X-Robots-Tag:noindex
X-PUBLISHED-TTL:PT1H
BEGIN:VTIMEZONE
TZID:UTC
BEGIN:STANDARD
TZOFFSETFROM:+0000
TZOFFSETTO:+0000
TZNAME:UTC
DTSTART:20240101T000000
END:STANDARD
END:VTIMEZONE
BEGIN:VEVENT
DTSTART;TZID=UTC:20240224T090000
DTEND;TZID=UTC:20240227T180000
DTSTAMP:20260416T071331
CREATED:20240122T095244Z
LAST-MODIFIED:20240122T095244Z
UID:1376-1708765200-1709056800@madeinomangate.com
SUMMARY:Opportunities for Heritage Fostering Innovation\, Conservation and Sustainability
DESCRIPTION:Opportunities for Heritage Fostering Innovation\, Conservation and Sustainability \n\nHeritage can play a major role in the path to achieve the 2030 Sustainable Development Goals. This international conference aims to bring together stakeholders from the field of heritage culture tourism urban and rural planning from the national regional and international backgrounds be it academia governments international organisations tourism developers amongst others; to explore the opportunities heritage has for sustainable development and engage in the dialogue on how to resolve the ongoing pressures between heritage conservation and urban and rural development. \nHeritage sites are usually embedded in communities. However some approaches to heritage conservation have at times restricted the communities’ rights to be involved in the protection promotion and management of these sites and limited their opportunities to modernise their surroundings. \nThis conference aims to bridge the gap between heritage and innovation and to encourage younger generations to bring ideas from the fourth industrial revolution into the heritage scene. The overall aim is to find a way in which heritage and development not only co-exist in harmony but for heritage to eventually lead to sustainable development and ensure the well-being of the societies living around it. The conference is organized by the UNESCO Chair for World Heritage and Sustainable Tourism Management at the German University of Technology in Oman and the Arab Regional Centre for World Heritage (ARC-WH) in Bahrain and will be implemented in close cooperation with a number of international and regional organizations.
URL:https://madeinomangate.com/event/opportunities-for-heritage-fostering-innovation-conservation-and-sustainability/
ATTACH;FMTTYPE=image/jpeg:https://madeinomangate.com/wp-content/uploads/2024/01/download-10.jpeg
END:VEVENT
END:VCALENDAR