BEGIN:VCALENDAR
VERSION:2.0
PRODID:-//Made in Oman Gate | منصة صنع في عمان - ECPv6.9.0//NONSGML v1.0//EN
CALSCALE:GREGORIAN
METHOD:PUBLISH
X-ORIGINAL-URL:https://madeinomangate.com
X-WR-CALDESC:Events for Made in Oman Gate | منصة صنع في عمان
REFRESH-INTERVAL;VALUE=DURATION:PT1H
X-Robots-Tag:noindex
X-PUBLISHED-TTL:PT1H
BEGIN:VTIMEZONE
TZID:UTC
BEGIN:STANDARD
TZOFFSETFROM:+0000
TZOFFSETTO:+0000
TZNAME:UTC
DTSTART:20240101T000000
END:STANDARD
END:VTIMEZONE
BEGIN:VEVENT
DTSTART;TZID=UTC:20240216T100000
DTEND;TZID=UTC:20240217T200000
DTSTAMP:20260421T123003
CREATED:20240122T095249Z
LAST-MODIFIED:20240122T095249Z
UID:1377-1708077600-1708200000@madeinomangate.com
SUMMARY:India Property Show Muscat
DESCRIPTION:India Property Show Muscat \n\nThe India Property Show is back in Muscat. \nExplore a stunning selection of 75000 dream properties at the ultimate event for NRIs in Muscat. \nDiscover your perfect property across 50 cities and from 50 top builders in India. Get inspired to invest for an unforgettable real estate experience and witness the future of Indian real estate. Don’t miss out.
URL:https://madeinomangate.com/event/india-property-show-muscat/
ATTACH;FMTTYPE=image/jpeg:https://madeinomangate.com/wp-content/uploads/2024/01/download-11.jpeg
END:VEVENT
END:VCALENDAR